BEGIN:VCALENDAR
VERSION:2.0
PRODID:-//Dr. Kadam Family Dental Care - ECPv5.14.1//NONSGML v1.0//EN
CALSCALE:GREGORIAN
METHOD:PUBLISH
X-WR-CALNAME:Dr. Kadam Family Dental Care
X-ORIGINAL-URL:https://test.drkadamdental.com
X-WR-CALDESC:Events for Dr. Kadam Family Dental Care
BEGIN:VTIMEZONE
TZID:Asia/Kolkata
BEGIN:STANDARD
TZOFFSETFROM:+0530
TZOFFSETTO:+0530
TZNAME:IST
DTSTART:20180101T000000
END:STANDARD
END:VTIMEZONE
BEGIN:VEVENT
DTSTART;VALUE=DATE:20181124
DTEND;VALUE=DATE:20181126
DTSTAMP:20260421T142742
CREATED:20181005T170118Z
LAST-MODIFIED:20181101T062540Z
UID:1833-1543017600-1543190399@test.drkadamdental.com
SUMMARY:Fixed Prosthodontics Workshop
DESCRIPTION:Course of its kind… \nWe all do good root canals\, but very rarely we give similar importance to prosthetic part like Crown preparation\, onlay preparation\, veneers etc…  So we have come up with newly designed fixed prosthodontic course \nBy: \nDr.Amit Chablani\nMDS\n Consultant Prosthodontist \nOn : \n24rd & 25th November \n  \nTopics :\n1. Basic Principles of Fixed prosthodontics\n2. Recent updates on Finishing your Margins\n3. How to plan your prosthesis clinically… (crown\,onlay\,overlay\, veneer)\n4. Which burs to use and how much to reduce tooth to be minimally invasive\n5. What is retraction\, why its important and its recent updates\n6.How to make good impressions and recent updates on techniques\n7. How to select shade effectively\n8. What is actually done in coping trial and bisque trial\n9. Occlusion in fixed prosthodontics – understand occlusal scheme\n10. How to make Chair side Temporaries\n11. Luting of crowns which cement to use for different crowns\n12. Understand What is monolith and what is layered crown\nAnd much more. \n  \nDemo & hands on For participants\n1. Metal crown preparation\n2. PFM crown preparation\n3. All ceramic Crown preparation\n4. Ceramic Onlay\n5. Ceramic veneers \nLots of knowledge sharing and lots of discussions… \nIf Interested.. \nContact :\nDr. Nilesh S. Kadam\nMDS\n 9970039790
URL:https://test.drkadamdental.com/event/fixed-prosthodontics-workshop/
LOCATION:Mumbai\, Illusion Training Center\, Andheri.\, 401\, Akruti Arcade\, J.P.Road\, Opp. A.H. Wadia School\, Near Andheri Sports Complex\, Andheri (W)\, Mumbai\, Maharashtra\, 400058\, India
END:VEVENT
END:VCALENDAR